BEGIN:VCALENDAR
VERSION:2.0
PRODID:Imitheme.com 
BEGIN:VEVENT
UID:20260421T020104431449168
DTSTAMP;TZID=UTC:2026-04-21 02:01:04
DTSTART;TZID=America/Los_Angeles:20260421T020104
DTEND;TZID=America/Los_Angeles:20260421T020104
SUMMARY:Five Peaks
LOCATION:1599 Ski Hill Rd\, Breckenridge\, CO 80424
DESCRIPTION:
URL:https://www.usaskimo.org/eventer/five-peaks-team-race-breckenridge-co/
END:VEVENT
END:VCALENDAR
